BEGIN:VCALENDAR
VERSION:2.0
PRODID:-//wp-events-plugin.com//7.2.3.1//EN
TZID:Europe/Berlin
X-WR-TIMEZONE:Europe/Berlin
BEGIN:VEVENT
UID:1932@galli-hamburg.de
DTSTART:20260523T120000Z
DTEND:20260523T120000Z
DTSTAMP:20260417T090818Z
URL:https://galli-hamburg.de/events/rapunzel-bei-den-heider-kultour-tagen/
SUMMARY:Rapunzel bei den Heider KulTour Tagen 2026
DESCRIPTION:[vc_row css=".vc_custom_1507994757353{margin-right: 15px !impor
 tant\;}"][vc_column][vc_column_text css=""]\nHeide wird erneut zur Kulturs
 tadt!\nVom 19. bis 25. Mai 2026 präsentieren viele regionale Veranstalter
  gemeinsam die 3. Heider KulTour Tage ein vielfältiges Programm aus Kunst
 \, Musik\, Theater\, Literatur und Mitmachaktionen. Zahlreiche lokale Kün
 stlerinnen und Künstler\, Schulen\, Vereine und Kulturinitiativen gestalt
 en ein langes Wochenende voller Kreativität\, Begegnung und Inspiration.\
 n\nOb Kunstausstellung\, Konzerte\, Poetry\, Familienangebote oder neue sp
 artenübergreifende Formate.\nDie Heider KulTour Tage laden alle Generatio
 nen ein\, Kultur hautnah zu erleben.\nWir freuen uns auf euch!\n[/vc_colum
 n_text][vc_tta_accordion style="flat" shape="square" spacing="5" c_icon="c
 hevron" active_section="" no_fill="true" collapsible_all="true" css=".vc_c
 ustom_1745877618283{margin-top: 30px !important\;}"][vc_tta_section title=
 "Zum Stück (Mitspieltheater)" tab_id="1745877383443-8ea08b78-203e"][vc_co
 lumn_text css=""]Ein Mann klar für seine schwangere Frau einen Rapunzelsa
 lat bei der Nachbarin\, der Alten weisen Frau. Diese rächt sich\, indem s
 ie das Kind in einen Turm sperrt. Dort soll Rapunzel alles Wissen der Welt
  lernen. Doch eines Tages kommt ein Prinz an dem Turm vorbei und schafft e
 s\, zur Prinzessin zu gelangen. Die Alte kann das nicht dulden und verbann
 t die zwei Liebenden. Die ganze Geschichte und\, wie sich Rapunzel und der
  Prinz wieder vereinen\, können die Kinder in diesem witzigen und überra
 schenden Mitspieltheater hautnah erleben.[/vc_column_text][/vc_tta_section
 ][vc_tta_section title="Was ist Mitspieltheater?" tab_id="1504372205785-60
 24b9a2-b2fd852e-d5bd62e9-a26a164f-c643"][vc_column_text]Das Mitspieltheate
 r ist eine besondere Form des Theaterspielens\, bei dem ein erfahrener Sch
 auspieler ein Märchen erzählt und dabei in die verschiedenen Märchencha
 raktere und Rollen schlüpft.\n\nDie Kinder erleben beim Mitspieltheater d
 ie große Kunst des Schauspielens hautnah mit\, nämlich den Rollenwechsel
  – den der Spieler vor ihren Augen auf der Bühne vollzieht. Dabei dürf
 en sie dem Märchen nicht nur gespannt zuhören\, sondern aktiv mitwirken.
  Sie können ihre Gedanken und Ideen dem Spieler auf der Bühne zurufen\, 
 der diese Impulse spontan mit in die Geschichte integriert. Außerdem kön
 nen die Kinder an vielen Stellen selbst auf der Bühne mitspielen! So ents
 teht ein interaktives und lebendiges Theaterspiel zwischen dem Erzähler u
 nd den Kindern.[/vc_column_text][/vc_tta_section][vc_tta_section title="Sp
 ieler" tab_id="1503413319127-b0178b70-60cd852e-d5bd62e9-a26a164f-c643"][vc
 ex_staff_grid title_tag="h3" excerpt="false" read_more="false" img_crop="l
 eft-top" img_width="270" img_height="360" img_filter="grayscale" include_c
 ategories="353" columns_gap="15"][/vc_tta_section][vc_tta_section title="T
 ermine" tab_id="1504372265451-bc6fc131-b46b852e-d5bd62e9-a26a164f-c643"][v
 c_column_text css=""][spielplan mode=monthly tag=402][/vc_column_text][/vc
 _tta_section][/vc_tta_accordion][vcex_spacing size="20"][vcex_image_flexsl
 ider image_ids="14767\,14770\,11732" control_thumbs="false" control_thumbs
 _carousel="false"][/vc_column][/vc_row][vc_row column_spacing="0px" equal_
 height="yes"][vc_column][vcex_image_carousel image_ids="5153\,4813\,4810\,
 4425" caption="yes" arrows_position="abs" infinite_loop="false" items="3" 
 items_margin="20" overlay_style="title-bottom-see-through" img_width="300"
  img_height="200"][/vc_column][/vc_row]
ATTACH;FMTTYPE=image/jpeg:https://galli-hamburg.de/wp-content/uploads/2025
 /01/MST-Rapunzel-Slider-Galli-Theater-Hamburg-Heidi.jpg
CATEGORIES:Kindertheater,Mitspieltheater,Musik von Michael
 Summ,Special,Spielplan,Veranstaltung außer Haus
LOCATION:Alte Druckerei Heide\, Güterstraße 15\, Heide\, 25746\, Deutschl
 and
X-APPLE-STRUCTURED-LOCATION;VALUE=URI;X-ADDRESS=Güterstraße 15\, Heide\, 
 25746\, Deutschland;X-APPLE-RADIUS=100;X-TITLE=Alte Druckerei Heide:geo:0,
 0
END:VEVENT
END:VCALENDAR