BEGIN:VCALENDAR
VERSION:2.0
PRODID:-//wp-events-plugin.com//7.2.3.1//EN
TZID:Europe/Berlin
X-WR-TIMEZONE:Europe/Berlin
BEGIN:VEVENT
UID:1889@galli-hamburg.de
DTSTART;TZID=Europe/Berlin:20261031T110000
DTEND;TZID=Europe/Berlin:20261031T110000
DTSTAMP:20260116T103212Z
URL:https://galli-hamburg.de/events/premiere-besuch-der-kleinen-vampire/
SUMMARY:Premiere: Besuch der kleinen Vampire
DESCRIPTION:[vc_row css=".vc_custom_1507994757353{margin-right: 15px !impor
 tant\;}"][vc_column][vc_column_text css=""]Das Halloween Special im Galli 
 Theater: \n\nNorma Blum\, eine lustige und lebensfrohe junge Dame\, hat ei
 nen stressigen Tag hinter sich und liest dann in der Zeitung eine Warnung 
 über Vampire\, die nachts in Hamburg umherschleichen sollen. Trotzdem öf
 fnet sie das Fenster und es kommt\, wie es kommen muss: Ein Vampir tritt e
 in. Es stellt sich heraus\, dass es sich um einen bösen Vampiren handelt 
 und Norma sich in echter Gefahr befindet. Doch durch die Mithilfe der Kind
 er gelingt es ihr\, das Böse in Gutes zu wandeln.[/vc_column_text][vc_tta
 _accordion style="flat" shape="square" spacing="5" c_icon="chevron" active
 _section="2" no_fill="true" css=".vc_custom_1507933352590{margin-top: 30px
  !important\;}"][vc_tta_section title="Spieler" tab_id="1503413319127-b017
 8b70-60cd852e-d5bd62e9-a26a164f-c6436c3e-2015"][vcex_staff_grid title_tag=
 "h3" excerpt="false" read_more="false" img_crop="left-top" img_width="270"
  img_height="360" img_filter="grayscale" include_categories="374\, 353" co
 lumns_gap="15"][/vc_tta_section][vc_tta_section title="Weitere Termine" ta
 b_id="1504372265451-bc6fc131-b46b852e-d5bd62e9-a26a164f-c6436c3e-2015"][vc
 _column_text css=""][spielplan mode=monthly tag=456][/vc_column_text][/vc_
 tta_section][/vc_tta_accordion][/vc_column][/vc_row][vc_row column_spacing
 ="0px" equal_height="yes"][vc_column][vcex_image_carousel image_ids="5153\
 ,4813\,4810\,4425" caption="yes" arrows_position="abs" infinite_loop="fals
 e" items="3" items_margin="20" overlay_style="title-bottom-see-through" im
 g_width="300" img_height="200"][/vc_column][/vc_row]
ATTACH;FMTTYPE=image/jpeg:https://galli-hamburg.de/wp-content/uploads/2026
 /01/Galli-Theater-Hamburg-e.V.-Besuch-der-kleinen-Vampire-Slider.jpg
CATEGORIES:Kindertheater,Spielplan,Veranstaltung außer Haus
LOCATION:Kunstklinik Kulturzentrum Eppendorf\, Martinistraße 44a\, Hamburg
  Eppendorf\, Hamburg\, 20251\, Eppendorf\, Deutschland
X-APPLE-STRUCTURED-LOCATION;VALUE=URI;X-ADDRESS=Martinistraße 44a\, Hambur
 g Eppendorf\, Hamburg\, 20251\, Eppendorf\, Deutschland;X-APPLE-RADIUS=100
 ;X-TITLE=Kunstklinik Kulturzentrum Eppendorf:geo:0,0
END:VEVENT
BEGIN:VTIMEZONE
TZID:Europe/Berlin
X-LIC-LOCATION:Europe/Berlin
BEGIN:STANDARD
DTSTART:20261025T020000
TZOFFSETFROM:+0200
TZOFFSETTO:+0100
TZNAME:CET
END:STANDARD
END:VTIMEZONE
END:VCALENDAR