BEGIN:VCALENDAR
VERSION:2.0
PRODID:-//wp-events-plugin.com//7.2.3.1//EN
TZID:Europe/Berlin
X-WR-TIMEZONE:Europe/Berlin
BEGIN:VEVENT
UID:1893@galli-hamburg.de
DTSTART:20261130T080000Z
DTEND:20261130T080000Z
DTSTAMP:20260310T210706Z
URL:https://galli-hamburg.de/events/frau-holle-31/
SUMMARY:Frau Holle
DESCRIPTION:[vc_row css=".vc_custom_1507994757353{margin-right: 15px !impor
 tant\;}"][vc_column][vc_column_text css=""]\n\n\n\n\n\n\n\n\n\n\nDer flei
 ßigen Marie fällt die Spule in den Brunnen und sie springt hinterher. Da
  kommt sie ins Reich der Frau Holle und findet viel Arbeit: Das Brot muss 
 aus dem Ofen\, die Äpfel müssen vom Baum und Frau Holles Kissen geschüt
 telt werden\, damit es auf der Welt schneit. Sie wird von Frau Holle für 
 ihre gute Arbeit reich belohnt. Ihre faule Schwester macht sich nun auch a
 uf ins Reich der Frau Holle. Da sie aber dort nichts arbeitet\, wird sie a
 m Ende mit klebrigem\, schwarzem Pech belohnt. Da endlich erwacht die Faul
 e aus ihrem Trotz und begreift\, was sie eigentlich hätte tun sollen...\n
 \n\n\n\n\n\n\n\n\n\n[/vc_column_text][vc_tta_accordion style="flat" shape=
 "square" spacing="5" c_icon="chevron" active_section="2" no_fill="true" cs
 s=".vc_custom_1507933352590{margin-top: 30px !important\;}"][vc_tta_sectio
 n title="Spieler" tab_id="1503413319127-b0178b70-60cd852e-d5bd62e9-a26a164
 f-c643"][vcex_staff_grid title_tag="h3" excerpt="false" read_more="false" 
 img_crop="left-top" img_width="270" img_height="360" img_filter="grayscale
 " include_categories="353\, 374" columns_gap="15"][/vc_tta_section][vc_tta
 _section title="Termine" tab_id="1504372265451-bc6fc131-b46b852e-d5bd62e9-
 a26a164f-c643"][vc_column_text][spielplan mode=monthly category=86 tag=390
 ][/vc_column_text][/vc_tta_section][/vc_tta_accordion][vcex_spacing size="
 20"][vcex_image_flexslider image_ids="12450\,13593" control_thumbs="false"
  control_thumbs_carousel="false"][/vc_column][/vc_row][vc_row column_spaci
 ng="0px" equal_height="yes"][vc_column][vcex_image_carousel image_ids="515
 3\,4813\,4810\,4425" caption="yes" arrows_position="abs" infinite_loop="fa
 lse" items="3" items_margin="20" overlay_style="title-bottom-see-through" 
 img_width="300" img_height="200"][/vc_column][/vc_row]
ATTACH;FMTTYPE=image/jpeg:https://galli-hamburg.de/wp-content/uploads/2024
 /07/Galli-Theater-Hamburg-Frau-Holle-Slider.jpg
CATEGORIES:Kindertheater,Kita- &amp;
 Schulvorstellungen,Spielplan,Veranstaltung außer Haus
LOCATION:Kunstklinik Kulturzentrum Eppendorf\, Martinistraße 44a\, Hamburg
  Eppendorf\, Hamburg\, 20251\, Eppendorf\, Deutschland
X-APPLE-STRUCTURED-LOCATION;VALUE=URI;X-ADDRESS=Martinistraße 44a\, Hambur
 g Eppendorf\, Hamburg\, 20251\, Eppendorf\, Deutschland;X-APPLE-RADIUS=100
 ;X-TITLE=Kunstklinik Kulturzentrum Eppendorf:geo:0,0
END:VEVENT
END:VCALENDAR