BEGIN:VCALENDAR
VERSION:2.0
PRODID:-//wp-events-plugin.com//7.2.3.1//EN
TZID:Europe/Berlin
X-WR-TIMEZONE:Europe/Berlin
BEGIN:VEVENT
UID:1933@galli-hamburg.de
DTSTART:20260425T133000Z
DTEND:20260425T133000Z
DTSTAMP:20260417T102829Z
URL:https://galli-hamburg.de/events/bremer-stadmusikanten-beim-familiensam
 stag-im-sos-kinderdorf/
SUMMARY:Die Bremer Stadtmusikanten beim Familiensamstag im SOS Kinderdorf
DESCRIPTION:[vc_row css=".vc_custom_1507994757353{margin-right: 15px !impor
 tant\;}"][vc_column][vc_column_text css=""]\nHeidi Hinrichs spielt\, tanzt
  und erzählt das Märchen „Die Bremer Stadtmusikanten”. Die zuschauen
 den Kinder dürfen dabei ihre Ideen einbringen und können sogar selbst mi
 tspielen. Ein großer Spaß für jung und alt!\nTicketverkauf: vor Ort im 
 1. OG\, montags bis freitags 10 - 17 Uhr[/vc_column_text][vc_tta_accordion
  style="flat" shape="square" spacing="5" c_icon="chevron" active_section="
 " no_fill="true" collapsible_all="true" css=".vc_custom_1745877618283{marg
 in-top: 30px !important\;}"][vc_tta_section title="Zum Stück (Mitspielthe
 ater)" tab_id="1745877383443-8ea08b78-203e"][vc_column_text css=""]Ein lah
 mer Esel\, ein müder Hund\, eine zahnlose Katze und ein alter Hahn beschl
 ießen\, zusammenzubleiben und Stadtmusikanten in Bremen zu werden. Sie ma
 chen sich auf den Weg. Aber sie haben die Rechnung ohne die Räuber gemach
 t. Andererseits haben die Räuber auch die Rechnung ohne die Tiere gemacht
 . Bei diesem lustigen und kreativen Mitspieltheater dürfen die Kinder spo
 ntan in alle Rollen schlüpfen und die Geschichte der vier Tiere selbst sp
 ielen.[/vc_column_text][/vc_tta_section][vc_tta_section title="Was ist Mit
 spieltheater?" tab_id="1504372205785-6024b9a2-b2fd852e-d5bd62e9-a26a164f-c
 643"][vc_column_text]Das Mitspieltheater ist eine besondere Form des Theat
 erspielens\, bei dem ein erfahrener Schauspieler ein Märchen erzählt und
  dabei in die verschiedenen Märchencharaktere und Rollen schlüpft.\n\nDi
 e Kinder erleben beim Mitspieltheater die große Kunst des Schauspielens h
 autnah mit\, nämlich den Rollenwechsel – den der Spieler vor ihren Auge
 n auf der Bühne vollzieht. Dabei dürfen sie dem Märchen nicht nur gespa
 nnt zuhören\, sondern aktiv mitwirken. Sie können ihre Gedanken und Idee
 n dem Spieler auf der Bühne zurufen\, der diese Impulse spontan mit in di
 e Geschichte integriert. Außerdem können die Kinder an vielen Stellen se
 lbst auf der Bühne mitspielen! So entsteht ein interaktives und lebendige
 s Theaterspiel zwischen dem Erzähler und den Kindern.[/vc_column_text][/v
 c_tta_section][vc_tta_section title="Spieler" tab_id="1503413319127-b0178b
 70-60cd852e-d5bd62e9-a26a164f-c643"][vcex_staff_grid title_tag="h3" excerp
 t="false" read_more="false" img_crop="left-top" img_width="270" img_height
 ="360" img_filter="grayscale" include_categories="353" columns_gap="15"][/
 vc_tta_section][vc_tta_section title="Termine" tab_id="1504372265451-bc6fc
 131-b46b852e-d5bd62e9-a26a164f-c643"][vc_column_text css=""][spielplan mod
 e=monthly tag=365][/vc_column_text][/vc_tta_section][/vc_tta_accordion][vc
 ex_spacing size="20"][vcex_image_flexslider image_ids="12203" control_thum
 bs="false" control_thumbs_carousel="false"][/vc_column][/vc_row][vc_row co
 lumn_spacing="0px" equal_height="yes"][vc_column][vcex_image_carousel imag
 e_ids="5153\,4813\,4810\,4425" caption="yes" arrows_position="abs" infinit
 e_loop="false" items="3" items_margin="20" overlay_style="title-bottom-see
 -through" img_width="300" img_height="200"][/vc_column][/vc_row]
ATTACH;FMTTYPE=image/jpeg:https://galli-hamburg.de/wp-content/uploads/2023
 /05/Die-Bremer-Stadtmusikanten-Galli-Theater-Hamburg-Slider.jpg
CATEGORIES:Kindertheater,Mitspieltheater,Musik von Michael
 Summ,Special,Spielplan,Veranstaltung außer Haus
LOCATION:SOS-Kinderdorf Dulsberg\, Straßburger Str. 19\, Hamburg\, 22049\,
  Wandsbek\, Deutschland
X-APPLE-STRUCTURED-LOCATION;VALUE=URI;X-ADDRESS=Straßburger Str. 19\, Hamb
 urg\, 22049\, Wandsbek\, Deutschland;X-APPLE-RADIUS=100;X-TITLE=SOS-Kinder
 dorf Dulsberg:geo:0,0
END:VEVENT
END:VCALENDAR